BEGIN:VCALENDAR
PRODID:-//AT Content Types//AT Event//EN
VERSION:2.0
METHOD:PUBLISH
BEGIN:VEVENT
DTSTAMP:20260419T143947Z
CREATED:20180816T081256Z
UID:ATEvent-bd5b504665324b31b545a933b9aa2e8a
LAST-MODIFIED:20180816T081314Z
SUMMARY:Back to School
DTSTART:20181022T080000Z
DTEND:20181022T141500Z
CLASS:PUBLIC
END:VEVENT
END:VCALENDAR
