BEGIN:VCALENDAR
PRODID:-//AT Content Types//AT Event//EN
VERSION:1.0
BEGIN:VEVENT
DTSTART:20190207T000000Z
DTEND:20190207T235500Z
DCREATED:20180816T083144Z
UID:ATEvent-f4bb09de4ed1413e9f4248bbce7bd0a9
SEQUENCE:0
LAST-MODIFIED:20180816T083506Z
SUMMARY:Burns Night
PRIORITY:3
TRANSP:0
END:VEVENT
END:VCALENDAR
