BEGIN:VCALENDAR
PRODID:-//AT Content Types//AT Event//EN
VERSION:1.0
BEGIN:VEVENT
DTSTART:20150325T183000Z
DTEND:20150325T193000Z
DCREATED:20140811T134745Z
UID:ATEvent-64902dae620944f8b79ce4197fbcf80a
SEQUENCE:0
LAST-MODIFIED:20140811T134748Z
SUMMARY:Dalguise Evening
DESCRIPTION:Meeting for P7 parents to come along and fins out more abo
 ut the P7 residential trip to Dalguise.
PRIORITY:3
TRANSP:0
END:VEVENT
END:VCALENDAR
