BEGIN:VCALENDAR
PRODID:-//AT Content Types//AT Event//EN
VERSION:2.0
METHOD:PUBLISH
BEGIN:VEVENT
DTSTAMP:20260425T225040Z
CREATED:20190813T130950Z
UID:ATEvent-1e70323122274ef699c999a0a47de1a3
LAST-MODIFIED:20190813T131249Z
SUMMARY:Flu Immunisation
DTSTART:20191213T090000Z
DTEND:20191213T151500Z
CLASS:PUBLIC
END:VEVENT
END:VCALENDAR
