BEGIN:VCALENDAR
PRODID:-//AT Content Types//AT Event//EN
VERSION:1.0
BEGIN:VEVENT
DTSTART:20171101T090000Z
DTEND:20171101T151500Z
DCREATED:20171005T151850Z
UID:ATEvent-30876cbc6b524f32aba1c22db6df7886
SEQUENCE:0
LAST-MODIFIED:20171005T151922Z
SUMMARY:Harvest Service
PRIORITY:3
TRANSP:0
END:VEVENT
END:VCALENDAR
