BEGIN:VCALENDAR
PRODID:-//AT Content Types//AT Event//EN
VERSION:2.0
METHOD:PUBLISH
BEGIN:VEVENT
DTSTAMP:20260419T144055Z
CREATED:20170626T154709Z
UID:ATEvent-5d634432aeca42a9a8f7994c19565959
LAST-MODIFIED:20170626T154832Z
SUMMARY:Holiday
DTSTART:20180216T090000Z
DTEND:20180216T151500Z
CLASS:PUBLIC
END:VEVENT
END:VCALENDAR
