BEGIN:VCALENDAR
PRODID:-//AT Content Types//AT Event//EN
VERSION:1.0
BEGIN:VEVENT
DTSTART:20190506T080000Z
DTEND:20190506T141500Z
DCREATED:20180816T084611Z
UID:ATEvent-c62d6a4931b24bc598e8902e43fa4360
SEQUENCE:0
LAST-MODIFIED:20180816T085157Z
SUMMARY:Holiday
PRIORITY:3
TRANSP:0
END:VEVENT
END:VCALENDAR
