BEGIN:VCALENDAR
PRODID:-//AT Content Types//AT Event//EN
VERSION:1.0
BEGIN:VEVENT
DTSTART:20150211T090000Z
DTEND:20150211T151500Z
DCREATED:20140811T133154Z
UID:ATEvent-c266547880eb45d28af50d56e9abd863
SEQUENCE:0
LAST-MODIFIED:20140811T133159Z
SUMMARY:Holiday
PRIORITY:3
TRANSP:0
END:VEVENT
END:VCALENDAR
