BEGIN:VCALENDAR
PRODID:-//AT Content Types//AT Event//EN
VERSION:2.0
METHOD:PUBLISH
BEGIN:VEVENT
DTSTAMP:20260425T230629Z
CREATED:20140811T134844Z
UID:ATEvent-dc78bf1da5dd4378926db97c29355b22
LAST-MODIFIED:20150311T155955Z
SUMMARY:Holiday
DTSTART:20150402T141500Z
DTEND:20150420T080000Z
CLASS:PUBLIC
END:VEVENT
END:VCALENDAR
