BEGIN:VCALENDAR
PRODID:-//AT Content Types//AT Event//EN
VERSION:2.0
METHOD:PUBLISH
BEGIN:VEVENT
DTSTAMP:20260425T230737Z
CREATED:20190813T130409Z
UID:ATEvent-2cd51691ca8347a2a2f99818f0b87a71
LAST-MODIFIED:20190813T131401Z
SUMMARY:Inservice Day
DTSTART:20191115T090000Z
DTEND:20191115T151500Z
CLASS:PUBLIC
END:VEVENT
END:VCALENDAR
