BEGIN:VCALENDAR
PRODID:-//AT Content Types//AT Event//EN
VERSION:1.0
BEGIN:VEVENT
DTSTART:20200218T090000Z
DTEND:20200218T151500Z
DCREATED:20190813T140250Z
UID:ATEvent-3de367f992434853844b2986f5e32c53
SEQUENCE:0
LAST-MODIFIED:20190813T140521Z
SUMMARY:Inservice day
PRIORITY:3
TRANSP:0
END:VEVENT
END:VCALENDAR
