BEGIN:VCALENDAR
PRODID:-//AT Content Types//AT Event//EN
VERSION:1.0
BEGIN:VEVENT
DTSTART:20160527T080000Z
DTEND:20160527T141500Z
DCREATED:20150821T133909Z
UID:ATEvent-d437e7321c0c4d02ac66b5735e3661e6
SEQUENCE:0
LAST-MODIFIED:20150821T133914Z
SUMMARY:Inservice Day
PRIORITY:3
TRANSP:0
END:VEVENT
END:VCALENDAR
