BEGIN:VCALENDAR
PRODID:-//AT Content Types//AT Event//EN
VERSION:1.0
BEGIN:VEVENT
DTSTART:20180629T080000Z
DTEND:20180629T110000Z
DCREATED:20170626T155933Z
UID:ATEvent-8ffebcefde1c4802b91fdc6e5cde3fac
SEQUENCE:0
LAST-MODIFIED:20170626T160022Z
SUMMARY:Last day of term - 12pm finish
PRIORITY:3
TRANSP:0
END:VEVENT
END:VCALENDAR
