BEGIN:VCALENDAR
PRODID:-//AT Content Types//AT Event//EN
VERSION:1.0
BEGIN:VEVENT
DTSTART:20191220T090000Z
DTEND:20191220T120000Z
DCREATED:20190813T131103Z
UID:ATEvent-a7525e6210d444b9b3c9745bec909ad0
SEQUENCE:0
LAST-MODIFIED:20190813T131310Z
SUMMARY:Last day of term school ends at 12 noon
PRIORITY:3
TRANSP:0
END:VEVENT
END:VCALENDAR
