BEGIN:VCALENDAR
PRODID:-//AT Content Types//AT Event//EN
VERSION:2.0
METHOD:PUBLISH
BEGIN:VEVENT
DTSTAMP:20260419T144249Z
CREATED:20180514T114657Z
UID:ATEvent-be0ba59a36b740a3b7f99a36a66780c7
LAST-MODIFIED:20180514T114947Z
SUMMARY:P1 Transition event - Artie's Tartan Tales
DTSTART:20180615T080000Z
DTEND:20180615T141500Z
CLASS:PUBLIC
END:VEVENT
END:VCALENDAR
