BEGIN:VCALENDAR
PRODID:-//AT Content Types//AT Event//EN
VERSION:2.0
METHOD:PUBLISH
BEGIN:VEVENT
DTSTAMP:20260419T143808Z
CREATED:20130313T153455Z
UID:ATEvent-4bdb4187e53f4ad995b7e6cee1a16121
LAST-MODIFIED:20130808T125908Z
SUMMARY:P2/1 Class Assembly
DTSTART:20130425T083000Z
DTEND:20130425T141500Z
CLASS:PUBLIC
END:VEVENT
END:VCALENDAR
