BEGIN:VCALENDAR
PRODID:-//AT Content Types//AT Event//EN
VERSION:2.0
METHOD:PUBLISH
BEGIN:VEVENT
DTSTAMP:20260419T143645Z
CREATED:20130313T154149Z
UID:ATEvent-eb6a2083c6e547639d544948d6f0f3ed
LAST-MODIFIED:20130808T125908Z
SUMMARY:P2  Class Assembly
DTSTART:20130530T083000Z
DTEND:20130530T141500Z
CLASS:PUBLIC
END:VEVENT
END:VCALENDAR
