BEGIN:VCALENDAR
PRODID:-//AT Content Types//AT Event//EN
VERSION:1.0
BEGIN:VEVENT
DTSTART:20190509T083000Z
DTEND:20190509T093000Z
DCREATED:20180816T084658Z
UID:ATEvent-c6f026a1a7004041b33bf5ebe420ea7a
SEQUENCE:0
LAST-MODIFIED:20180816T085159Z
SUMMARY:P3/2 Class Assembly
PRIORITY:3
TRANSP:0
END:VEVENT
END:VCALENDAR
