BEGIN:VCALENDAR
PRODID:-//AT Content Types//AT Event//EN
VERSION:1.0
BEGIN:VEVENT
DTSTART:20180208T093000Z
DTEND:20180208T100000Z
DCREATED:20180116T165330Z
UID:ATEvent-3384a81ff57c4376ae01fcc5877e76dd
SEQUENCE:0
LAST-MODIFIED:20180116T165334Z
SUMMARY:P4/5 class assembly
PRIORITY:3
TRANSP:0
END:VEVENT
END:VCALENDAR
