BEGIN:VCALENDAR
PRODID:-//AT Content Types//AT Event//EN
VERSION:2.0
METHOD:PUBLISH
BEGIN:VEVENT
DTSTAMP:20260425T231232Z
CREATED:20140110T152107Z
UID:ATEvent-51eb2e74380e4ccf867e3d911ced4c30
LAST-MODIFIED:20140110T152111Z
SUMMARY:P5s to Scottish Country Dance Festival
DTSTART:20140131T093000Z
DTEND:20140131T120000Z
CLASS:PUBLIC
END:VEVENT
END:VCALENDAR
