BEGIN:VCALENDAR
PRODID:-//AT Content Types//AT Event//EN
VERSION:1.0
BEGIN:VEVENT
DTSTART:20141219T131500Z
DTEND:20141219T151500Z
DCREATED:20141214T105032Z
UID:ATEvent-7106a1985752449b93cad0ca4c933713
SEQUENCE:0
LAST-MODIFIED:20141214T105036Z
SUMMARY:P6 and P7 parties
PRIORITY:3
TRANSP:0
END:VEVENT
END:VCALENDAR
