BEGIN:VCALENDAR
PRODID:-//AT Content Types//AT Event//EN
VERSION:2.0
METHOD:PUBLISH
BEGIN:VEVENT
DTSTAMP:20260420T190448Z
CREATED:20140811T122156Z
UID:ATEvent-5751779ae93e4a14a4f6c038774fd8f7
LAST-MODIFIED:20140811T122232Z
SUMMARY:P7 Safe Taysiders
DTSTART:20140825T120000Z
DTEND:20140825T141500Z
DESCRIPTION:Children in P7 will travel by coach to the Police Station 
 where they will undertake many fun activities related to being safe.
CLASS:PUBLIC
END:VEVENT
END:VCALENDAR
