BEGIN:VCALENDAR
PRODID:-//AT Content Types//AT Event//EN
VERSION:2.0
METHOD:PUBLISH
BEGIN:VEVENT
DTSTAMP:20260425T230818Z
CREATED:20180514T114605Z
UID:ATEvent-f8eeb4036372405b93012107716f5529
LAST-MODIFIED:20180514T114612Z
SUMMARY:P7 Transition Days at Grove
DTSTART:20180613T080000Z
DTEND:20180615T141500Z
CLASS:PUBLIC
END:VEVENT
END:VCALENDAR
