BEGIN:VCALENDAR
PRODID:-//AT Content Types//AT Event//EN
VERSION:1.0
BEGIN:VEVENT
DTSTART:20200609T180000Z
DTEND:20200609T190000Z
DCREATED:20190813T142053Z
UID:ATEvent-1a5df245fbcd4f7690c7635733de4e51
SEQUENCE:0
LAST-MODIFIED:20190813T142411Z
SUMMARY:Parent Council AGM
PRIORITY:3
TRANSP:0
END:VEVENT
END:VCALENDAR
