BEGIN:VCALENDAR
PRODID:-//AT Content Types//AT Event//EN
VERSION:1.0
BEGIN:VEVENT
DTSTART:20170930T230000Z
DTEND:20171001T225500Z
DCREATED:20170626T152647Z
UID:ATEvent-84e2f91ad7f845be83b54050538ea73e
SEQUENCE:0
LAST-MODIFIED:20170626T152953Z
SUMMARY:Parent Council Cyclathon (TBC)
PRIORITY:3
TRANSP:0
END:VEVENT
END:VCALENDAR
