BEGIN:VCALENDAR
PRODID:-//AT Content Types//AT Event//EN
VERSION:1.0
BEGIN:VEVENT
DTSTART:20190903T180000Z
DTEND:20190903T190000Z
DCREATED:20190813T125656Z
UID:ATEvent-388e3d2f62b54adea0a8b2fee7a12668
SEQUENCE:0
LAST-MODIFIED:20190813T131520Z
SUMMARY:Parent Council Meeting
PRIORITY:3
TRANSP:0
END:VEVENT
END:VCALENDAR
