BEGIN:VCALENDAR
PRODID:-//AT Content Types//AT Event//EN
VERSION:2.0
METHOD:PUBLISH
BEGIN:VEVENT
DTSTAMP:20260425T231226Z
CREATED:20190813T141018Z
UID:ATEvent-a0adcb5687a84941be5be5c18320e0dd
LAST-MODIFIED:20190813T141025Z
SUMMARY:Parent Council Meeting
DTSTART:20200421T180000Z
DTEND:20200421T190000Z
CLASS:PUBLIC
END:VEVENT
END:VCALENDAR
