BEGIN:VCALENDAR
PRODID:-//AT Content Types//AT Event//EN
VERSION:2.0
METHOD:PUBLISH
BEGIN:VEVENT
DTSTAMP:20260425T230108Z
CREATED:20190813T140738Z
UID:ATEvent-f4f571dd5640426ba811b3e00e2b0bf1
LAST-MODIFIED:20190813T140907Z
SUMMARY:Parent Evening
DTSTART:20200319T160000Z
DTEND:20200319T183000Z
CLASS:PUBLIC
END:VEVENT
END:VCALENDAR
