BEGIN:VCALENDAR
PRODID:-//AT Content Types//AT Event//EN
VERSION:2.0
METHOD:PUBLISH
BEGIN:VEVENT
DTSTAMP:20260420T041054Z
CREATED:20130808T124017Z
UID:ATEvent-41a0f98650fe476a83d8c3e6409df503
LAST-MODIFIED:20130820T161113Z
SUMMARY:Parents Evening
DTSTART:20140326T190000Z
DTEND:20140326T210000Z
CLASS:PUBLIC
END:VEVENT
END:VCALENDAR
