BEGIN:VCALENDAR
PRODID:-//AT Content Types//AT Event//EN
VERSION:1.0
BEGIN:VEVENT
DTSTART:20190320T170000Z
DTEND:20190320T200000Z
DCREATED:20180816T083811Z
UID:ATEvent-715983a87e4742e6aadc30594a781364
SEQUENCE:0
LAST-MODIFIED:20180816T084032Z
SUMMARY:Parents Evening 3
PRIORITY:3
TRANSP:0
END:VEVENT
END:VCALENDAR
