BEGIN:VCALENDAR
PRODID:-//AT Content Types//AT Event//EN
VERSION:1.0
BEGIN:VEVENT
DTSTART:20160324T160000Z
DTEND:20160324T180000Z
DCREATED:20150821T132905Z
UID:ATEvent-47d691ae72e34274a21c7f045d1b2746
SEQUENCE:0
LAST-MODIFIED:20150821T132910Z
SUMMARY:Parents Evening
PRIORITY:3
TRANSP:0
END:VEVENT
END:VCALENDAR
