BEGIN:VCALENDAR
PRODID:-//AT Content Types//AT Event//EN
VERSION:2.0
METHOD:PUBLISH
BEGIN:VEVENT
DTSTAMP:20260425T230919Z
CREATED:20130804T133254Z
UID:ATEvent-34d1d7056dd845ccbecf38bc029c8abf
LAST-MODIFIED:20130808T125959Z
SUMMARY:Safe Taysiders for P7
DTSTART:20130826T120000Z
DTEND:20130826T140000Z
DESCRIPTION:Children will learn how to keep themselves safe in a varie
 ty of situations.
LOCATION:Baluniefield Police Station
CLASS:PUBLIC
END:VEVENT
END:VCALENDAR
