BEGIN:VCALENDAR
PRODID:-//AT Content Types//AT Event//EN
VERSION:1.0
BEGIN:VEVENT
DTSTART:20150205T170000Z
DTEND:20150205T213500Z
DCREATED:20140811T133339Z
UID:ATEvent-2c32bf65afc04575b637763c55ede8d6
SEQUENCE:0
LAST-MODIFIED:20140811T133346Z
SUMMARY:Scottish Evening
DESCRIPTION:Please come to the gym hall door off Claypotts Road.
PRIORITY:3
TRANSP:0
END:VEVENT
END:VCALENDAR
