BEGIN:VCALENDAR
PRODID:-//AT Content Types//AT Event//EN
VERSION:2.0
METHOD:PUBLISH
BEGIN:VEVENT
DTSTAMP:20260420T190135Z
CREATED:20190813T140135Z
UID:ATEvent-5b3d82c0c3414ff1a47a16b95c98c0fc
LAST-MODIFIED:20190813T140551Z
SUMMARY:Scottish Evening
DTSTART:20200206T180000Z
DTEND:20200206T193000Z
CLASS:PUBLIC
END:VEVENT
END:VCALENDAR
