BEGIN:VCALENDAR
PRODID:-//AT Content Types//AT Event//EN
VERSION:2.0
METHOD:PUBLISH
BEGIN:VEVENT
DTSTAMP:20260425T225812Z
CREATED:20180816T084449Z
UID:ATEvent-05f4c6d0e12843b8b7928c0dd2fa326a
LAST-MODIFIED:20180816T084552Z
SUMMARY:Spring Discos
DTSTART:20190501T230000Z
DTEND:20190502T225500Z
CLASS:PUBLIC
END:VEVENT
END:VCALENDAR
