BEGIN:VCALENDAR
PRODID:-//AT Content Types//AT Event//EN
VERSION:2.0
METHOD:PUBLISH
BEGIN:VEVENT
DTSTAMP:20260425T230859Z
CREATED:20190813T140654Z
UID:ATEvent-a82bf115d9e742248358ba468c36e235
LAST-MODIFIED:20190813T140919Z
SUMMARY:Staff Meeting
DTSTART:20200311T153000Z
DTEND:20200311T170000Z
CLASS:PUBLIC
END:VEVENT
END:VCALENDAR
